BEGIN:VCALENDAR
VERSION:2.0
PRODID:-//wp-events-plugin.com//7.2.3.1//EN
TZID:America/New_York
X-WR-TIMEZONE:America/New_York
BEGIN:VEVENT
UID:344@norwegianassociation.ca
DTSTART;TZID=America/New_York:20200516T110000
DTEND;TZID=America/New_York:20200516T150000
DTSTAMP:20191009T213641Z
URL:https://www.norwegianassociation.ca/events/may-17th-family-celebration
 /
SUMMARY:May 17th Family Celebration
DESCRIPTION:Come join us as we launch the 2017 Norwegian National Day celeb
 rations with a family party at the Norwegian Church and Community Center. 
 Everyone is welcome!\n\nYoung and old(er) participants will march in a min
 i parade and take part in races and games\, art activities and more. After
 wards\, we'll serve sausages\, donuts\, ice cream and drinks.\n\nBring you
 r smiles\, your Norwegian flags and "bunader" if you have them.\n\nThe par
 ty will take place outside or in the hall\, depending on the weather.\n\n&
 nbsp\;\n\n&nbsp\;Please let us know you're coming by contacting Ellen at e
 llen@norwegianassociation.ca&nbsp\;\n\n&nbsp\;\n\nWe look forward to seein
 g you there!
ATTACH;FMTTYPE=image/jpeg:https://www.norwegianassociation.ca/wp-content/u
 ploads/2019/09/20190511_122022.jpg
CATEGORIES:17th Mai,English,Language
LOCATION:Norwegian Association of Montreal\, 5065 Sherbrooke Street\, Lachi
 ne\, QC\, H8T 1H9\, Canada
X-APPLE-STRUCTURED-LOCATION;VALUE=URI;X-ADDRESS=5065 Sherbrooke Street\, La
 chine\, QC\, H8T 1H9\, Canada;X-APPLE-RADIUS=100;X-TITLE=Norwegian Associa
 tion of Montreal:geo:0,0
END:VEVENT
BEGIN:VTIMEZONE
TZID:America/New_York
X-LIC-LOCATION:America/New_York
BEGIN:DAYLIGHT
DTSTART:20200308T030000
TZOFFSETFROM:-0500
TZOFFSETTO:-0400
TZNAME:EDT
END:DAYLIGHT
END:VTIMEZONE
END:VCALENDAR