BEGIN:VCALENDAR
VERSION:2.0
PRODID:-//wp-events-plugin.com//7.2.3.1//EN
TZID:America/New_York
X-WR-TIMEZONE:America/New_York
BEGIN:VEVENT
UID:464@norwegianassociation.ca
DTSTART;TZID=America/New_York:20200407T173000
DTEND;TZID=America/New_York:20200407T200000
DTSTAMP:20200207T004702Z
URL:https://www.norwegianassociation.ca/events/pub-night-at-hurleys-3/
SUMMARY:Pub Night at Hurleys
DESCRIPTION:We meet at Hurley's Irish Pub the first Tuesday of every month 
 (except July and August) at 5.30 pm in the cozy corner "The Snug".\nMany d
 ifferent brands of imported beer on tap are served\, as well as hearty Iri
 sh dinner plates. No advance notice is required to attend\, just show up!\
 nThe address is 1225 Crescent Street\, Montreal (514) 861-4111.\nWhether y
 ou’re new or part of the usual pub gang\, we hope you’ll join us!\n
CATEGORIES:English,Pub Night
LOCATION:Hurleys Irish Pub\, 1225 Crescent Street\, Montréal\, Québec\, C
 anada
GEO:45.496939;-73.574762
X-APPLE-STRUCTURED-LOCATION;VALUE=URI;X-ADDRESS=1225 Crescent Street\, Mont
 réal\, Québec\, Canada;X-APPLE-RADIUS=100;X-TITLE=Hurleys Irish Pub:geo:
 45.496939,-73.574762
END:VEVENT
BEGIN:VTIMEZONE
TZID:America/New_York
X-LIC-LOCATION:America/New_York
BEGIN:DAYLIGHT
DTSTART:20200308T030000
TZOFFSETFROM:-0500
TZOFFSETTO:-0400
TZNAME:EDT
END:DAYLIGHT
END:VTIMEZONE
END:VCALENDAR