BEGIN:VCALENDAR
VERSION:2.0
PRODID:-//wp-events-plugin.com//7.2.3.1//EN
TZID:America/New_York
X-WR-TIMEZONE:America/New_York
BEGIN:VEVENT
UID:341@norwegianassociation.ca
DTSTART;TZID=America/New_York:20200418T190000
DTEND;TZID=America/New_York:20200418T230000
DTSTAMP:20191009T213623Z
URL:https://www.norwegianassociation.ca/events/seafood-party/
SUMMARY:Seafood Party
DESCRIPTION:You won’t want to miss this year’s Seafood Party\, one of o
 ur most popular annual events! Join us at the Norwegian Church and Communi
 ty Centre for an evening full of food\, laughter\, music and fun! After th
 e raffle\, DJ Chris Blais will heat up the dance floor! Featuring all-you-
 can-eat\, peel-your-own nordic shrimps\, your ticket also includes&nbsp\;s
 almon\, salads\, desserts and coffee. Wine\, beer and/or soft drinks will 
 also be provided.\n\nThis event is not only for shrimp lovers! Please let 
 us know if you would like to attend but cannot eat shrimps\, and we will a
 ccommodate you.\n\nPricing is as follows:\n\nMembers: $40\n\nMembers under
  30: $30\n\nGuests: $45\n\nGuests under 30: $35\n\nPlease contact Liz at l
 iz@norwegianassociation.ca to reserve your spot.&nbsp\;
ATTACH;FMTTYPE=image/jpeg:https://www.norwegianassociation.ca/wp-content/u
 ploads/2019/10/20170408_224546.jpg
CATEGORIES:English,Language,Shrimp Party
LOCATION:Norwegian Association of Montreal\, 5065 Sherbrooke Street\, Lachi
 ne\, QC\, H8T 1H9\, Canada
X-APPLE-STRUCTURED-LOCATION;VALUE=URI;X-ADDRESS=5065 Sherbrooke Street\, La
 chine\, QC\, H8T 1H9\, Canada;X-APPLE-RADIUS=100;X-TITLE=Norwegian Associa
 tion of Montreal:geo:0,0
END:VEVENT
BEGIN:VTIMEZONE
TZID:America/New_York
X-LIC-LOCATION:America/New_York
BEGIN:DAYLIGHT
DTSTART:20200308T030000
TZOFFSETFROM:-0500
TZOFFSETTO:-0400
TZNAME:EDT
END:DAYLIGHT
END:VTIMEZONE
END:VCALENDAR