BEGIN:VCALENDAR
VERSION:2.0
PRODID:-//wp-events-plugin.com//7.2.3.1//EN
TZID:America/New_York
X-WR-TIMEZONE:America/New_York
BEGIN:VEVENT
UID:342@norwegianassociation.ca
DTSTART;TZID=America/New_York:20200307T110000
DTEND;TZID=America/New_York:20200307T170000
DTSTAMP:20191009T213609Z
URL:https://www.norwegianassociation.ca/events/winter-fun-day-ski-day/
SUMMARY:Winter Fun Day / Ski Day
DESCRIPTION:Bring the whole family for a day of skiing\, snowshoeing\, walk
 ing\, playing in the snow or just enjoying the winter day at Mikarl Løken
 ’s beautiful place near Ste-Anne-des-Lacs (the site of our fall picnic).
  Activities (determined by weather and ski conditions) will begin promptly
  at 11:00\, so plan to arrive in plenty of time. For lunch\, there will be
  sausages over an open fire\, along with hot chocolate\, coffee and cake p
 rovided by the Norwegian Club free of charge. Any other contributions you 
 wish to make to the food table will be greatly appreciated.\n\nTo reserve\
 , please contact Knut at knut@norwegianassociation.ca or (514) 568-4750. A
 lso\, let him know:\n\n 	If you would like to go out for dinner in St-Sauv
 eur afterwards. We will reserve at Le Chalet Grec (a bring-your-own-wine r
 estaurant) for 5:00.\n 	If you have extra ski equipment (for children or a
 dults)\, or if you want to borrow some\n 	If you need transportation\n\nDi
 rections will be provided upon request. See you there!
ATTACH;FMTTYPE=image/jpeg:https://www.norwegianassociation.ca/wp-content/u
 ploads/2019/10/20180224_120825.jpg
CATEGORIES:English,Language,Winter Fun Day
END:VEVENT
BEGIN:VTIMEZONE
TZID:America/New_York
X-LIC-LOCATION:America/New_York
BEGIN:STANDARD
DTSTART:20191103T010000
TZOFFSETFROM:-0400
TZOFFSETTO:-0500
TZNAME:EST
END:STANDARD
END:VTIMEZONE
END:VCALENDAR